Workbook

Sheet Production Goals
A1: #VALUE!
A2: Goal Setting Worksheet
A4: 2026 Goals | D4: 2025 Numbers | F4: vs. 2024
A6: Total GCI | D6: Closed Transactions | F6: =IF(E20>0,((E6-E20)/E20), "N/A") -> N/A
A7: Total Transactions | D7: Closed Listings | F7: =IF(E21>0,((E7-E21)/E21), "N/A") -> N/A
D8: Closed Buyers | F8: =IF(E22>0,((E8-E22)/E22), "N/A") -> N/A
A9: Closed Listings | D9: Closed Referrals | F9: =IF(E23>0,((E9-E23)/E23), "N/A") -> N/A
A10: Closed Buyers
A11: Closed Referrals | D11: Total GCI | F11: =IF(E25>0,((E11-E25)/E25), "N/A") -> N/A
D12: Avg. Commission %
A13: Avg. Listing Commission | D13: Avg. Listing Commission | F13: =IF(E27>0,((E13-E27)/E27), "N/A") -> N/A
A14: Avg. Buyer Commission | D14: Avg. Buyer Commission | F14: =IF(E28>0,((E14-E28)/E28), "N/A") -> N/A
A15: Avg. Referral | D15: Avg. Referral | F15: =IF(E29>0,((E15-E29)/E29), "N/A") -> N/A
A18: Total GCI Based on Avgs. | B18: =(B9*B13)+(B10*B14)+(B11*B15) -> 0 | D18: 2024 Numbers
A20: Change vs. 2025 | D20: Closed Transactions
D21: Closed Listings
A22: Listings | B22: =IF(E7>0,(B9-E7)/E7,"N/A") -> N/A | D22: Closed Buyers
A23: Buyers | B23: =IF(E8>0,(B10-E8)/E8,"N/A") -> N/A | D23: Closed Referrals
A24: GCI | B24: =IF(E9>0,(B11-E9)/E9,"N/A") -> N/A
D25: Total GCI
D26: Avg. Commission %
D27: Avg. Listing Commission
D28: Avg. Buyer Commission
D29: Avg. Referral

Sheet Marketing Plan
B1: 2026 Marketing Plan | E1: Monthly Flow
A4: Q1 | B4: January | E4: Pop-Bys
E5: Coffee w/ Clients
E6: Handwritten Notes
E7: Client Calls
B8: February | E8: Market Update Video
E9: Real Estate Reviews
B12: March
A16: Q2 | B16: April
B20: May
B24: June | E24: Keep in Touch Ideas
A28: Q3 | B28: July | E28: Holiday Cards
E29: Settlement Statements
E30: Market Stats
E31: House Anniversary
B32: August | E32: Client Happy Hour
E33: Social Media Contests
E34: Themed Reverse Pop-By
E35: House Anniversary
B36: September | E36: Client Happy Hour
E37: Spring Flower Seeds
E38: Back to School Drive
E39: Movie Theater Rental
A40: Q4 | B40: October | E40: Sporting Events
B44: November
B48: December

Sheet Annual Budget
A1: 2026 Business Budget - Line Item | G1: 2026 Business Budget
A3: Description | B3: Frequency | C3: Amount | D3: Category | E3: 2026 Total | H3: Budget | I3: Actual | J3: % to Budget | K3: $ Remaining | O3: Listing Side Goal | P3: ='Production Goals'!B9 -> 0 | R3: Annually
A4: REALTOR Dues | B4: Annually | C4: 820 | D4: Dues / Memberships | E4: {=_xlfn.IFS(B4="Annually", Table1[[#This Row],[Amount]],B4="Quarterly",Table1[[#This Row],[Amount]]*4,B4="Monthly",Table1[[#This Row],[Amount]]*12,B4="Per Listing",Table1[[#This Row],[Amount]]*$P$3, B4="Per Buyer Side",Table1[[#This Row],[Amount]]*$P$4,B4="",0)} -> 820 | G4: Marketing | H4: =SUMIF(D:D,"Marketing",E:E) -> 2988 | I4: ='Expense Tracker'!I4 -> 0 | J4: =IF(H4>0,I4/H4,"-") -> 0 | K4: =H4-I4 -> 2988 | O4: Buyer Side Goal | P4: ='Production Goals'!B10 -> 0 | R4: Quarterly
A5: RMLS Dues | B5: Quarterly | C5: 195.8 | D5: Dues / Memberships | E5: {=_xlfn.IFS(B5="Annually", Table1[[#This Row],[Amount]],B5="Quarterly",Table1[[#This Row],[Amount]]*4,B5="Monthly",Table1[[#This Row],[Amount]]*12,B5="Per Listing",Table1[[#This Row],[Amount]]*$P$3, B5="Per Buyer Side",Table1[[#This Row],[Amount]]*$P$4,B5="",0)} -> 783.2 | G5: Supplies | H5: =SUMIF(D:D,"Supplies",E:E) -> 0 | I5: ='Expense Tracker'!I5 -> 0 | J5: =IF(H5>0,I5/H5,"-") -> - | K5: =H5-I5 -> 0 | R5: Monthly
A6: Business Services Fee | B6: Monthly | C6: 249 | D6: Marketing | E6: {=_xlfn.IFS(B6="Annually", Table1[[#This Row],[Amount]],B6="Quarterly",Table1[[#This Row],[Amount]]*4,B6="Monthly",Table1[[#This Row],[Amount]]*12,B6="Per Listing",Table1[[#This Row],[Amount]]*$P$3, B6="Per Buyer Side",Table1[[#This Row],[Amount]]*$P$4,B6="",0)} -> 2988 | G6: Dues / Memberships | H6: =SUMIF(D:D,"Dues / Memberships",E:E) -> 1603.2 | I6: ='Expense Tracker'!I6 -> 0 | J6: =IF(H6>0,I6/H6,"-") -> 0 | K6: =H6-I6 -> 1603.2 | R6: Per Listing
E7: {=_xlfn.IFS(B7="Annually", Table1[[#This Row],[Amount]],B7="Quarterly",Table1[[#This Row],[Amount]]*4,B7="Monthly",Table1[[#This Row],[Amount]]*12,B7="Per Listing",Table1[[#This Row],[Amount]]*$P$3, B7="Per Buyer Side",Table1[[#This Row],[Amount]]*$P$4,B7="",0)} -> 0 | G7: Education | H7: =SUMIF(D:D,"Education",E:E) -> 0 | I7: ='Expense Tracker'!I7 -> 0 | J7: =IF(H7>0,I7/H7,"-") -> - | K7: =H7-I7 -> 0 | R7: Per Buyer Side
E8: {=_xlfn.IFS(B8="Annually", Table1[[#This Row],[Amount]],B8="Quarterly",Table1[[#This Row],[Amount]]*4,B8="Monthly",Table1[[#This Row],[Amount]]*12,B8="Per Listing",Table1[[#This Row],[Amount]]*$P$3, B8="Per Buyer Side",Table1[[#This Row],[Amount]]*$P$4,B8="",0)} -> 0 | G8: Professional Services | H8: =SUMIF(D:D,"Professional Services",E:E) -> 0 | I8: ='Expense Tracker'!I8 -> 0 | J8: =IF(H8>0,I8/H8,"-") -> - | K8: =H8-I8 -> 0
E9: {=_xlfn.IFS(B9="Annually", Table1[[#This Row],[Amount]],B9="Quarterly",Table1[[#This Row],[Amount]]*4,B9="Monthly",Table1[[#This Row],[Amount]]*12,B9="Per Listing",Table1[[#This Row],[Amount]]*$P$3, B9="Per Buyer Side",Table1[[#This Row],[Amount]]*$P$4,B9="",0)} -> 0 | G9: Technology / Software | H9: =SUMIF(D:D,"Technology / Software",E:E) -> 0 | I9: ='Expense Tracker'!I9 -> 0 | J9: =IF(H9>0,I9/H9,"-") -> - | K9: =H9-I9 -> 0
E10: {=_xlfn.IFS(B10="Annually", Table1[[#This Row],[Amount]],B10="Quarterly",Table1[[#This Row],[Amount]]*4,B10="Monthly",Table1[[#This Row],[Amount]]*12,B10="Per Listing",Table1[[#This Row],[Amount]]*$P$3, B10="Per Buyer Side",Table1[[#This Row],[Amount]]*$P$4,B10="",0)} -> 0 | G10: Client Appreciation / Gifts | H10: =SUMIF(D:D,"Client Appreciation / Gifts",E:E) -> 0 | I10: ='Expense Tracker'!I10 -> 0 | J10: =IF(H10>0,I10/H10,"-") -> - | K10: =H10-I10 -> 0
E11: {=_xlfn.IFS(B11="Annually", Table1[[#This Row],[Amount]],B11="Quarterly",Table1[[#This Row],[Amount]]*4,B11="Monthly",Table1[[#This Row],[Amount]]*12,B11="Per Listing",Table1[[#This Row],[Amount]]*$P$3, B11="Per Buyer Side",Table1[[#This Row],[Amount]]*$P$4,B11="",0)} -> 0 | G11: Business Meals | H11: =SUMIF(D:D,"Business Meals",E:E) -> 0 | I11: ='Expense Tracker'!I11 -> 0 | J11: =IF(H11>0,I11/H11,"-") -> - | K11: =H11-I11 -> 0
E13: {=_xlfn.IFS(B13="Annually", Table1[[#This Row],[Amount]],B13="Quarterly",Table1[[#This Row],[Amount]]*4,B13="Monthly",Table1[[#This Row],[Amount]]*12,B13="Per Listing",Table1[[#This Row],[Amount]]*$P$3, B13="Per Buyer Side",Table1[[#This Row],[Amount]]*$P$4,B13="",0)} -> 0 | G13: Total | H13: =SUM(H4:H11) -> 4591.2
E14: {=_xlfn.IFS(B14="Annually", Table1[[#This Row],[Amount]],B14="Quarterly",Table1[[#This Row],[Amount]]*4,B14="Monthly",Table1[[#This Row],[Amount]]*12,B14="Per Listing",Table1[[#This Row],[Amount]]*$P$3, B14="Per Buyer Side",Table1[[#This Row],[Amount]]*$P$4,B14="",0)} -> 0
E15: {=_xlfn.IFS(B15="Annually", Table1[[#This Row],[Amount]],B15="Quarterly",Table1[[#This Row],[Amount]]*4,B15="Monthly",Table1[[#This Row],[Amount]]*12,B15="Per Listing",Table1[[#This Row],[Amount]]*$P$3, B15="Per Buyer Side",Table1[[#This Row],[Amount]]*$P$4,B15="",0)} -> 0
E16: {=_xlfn.IFS(B16="Annually", Table1[[#This Row],[Amount]],B16="Quarterly",Table1[[#This Row],[Amount]]*4,B16="Monthly",Table1[[#This Row],[Amount]]*12,B16="Per Listing",Table1[[#This Row],[Amount]]*$P$3, B16="Per Buyer Side",Table1[[#This Row],[Amount]]*$P$4,B16="",0)} -> 0
E17: {=_xlfn.IFS(B17="Annually", Table1[[#This Row],[Amount]],B17="Quarterly",Table1[[#This Row],[Amount]]*4,B17="Monthly",Table1[[#This Row],[Amount]]*12,B17="Per Listing",Table1[[#This Row],[Amount]]*$P$3, B17="Per Buyer Side",Table1[[#This Row],[Amount]]*$P$4,B17="",0)} -> 0
E18: {=_xlfn.IFS(B18="Annually", Table1[[#This Row],[Amount]],B18="Quarterly",Table1[[#This Row],[Amount]]*4,B18="Monthly",Table1[[#This Row],[Amount]]*12,B18="Per Listing",Table1[[#This Row],[Amount]]*$P$3, B18="Per Buyer Side",Table1[[#This Row],[Amount]]*$P$4,B18="",0)} -> 0
E19: {=_xlfn.IFS(B19="Annually", Table1[[#This Row],[Amount]],B19="Quarterly",Table1[[#This Row],[Amount]]*4,B19="Monthly",Table1[[#This Row],[Amount]]*12,B19="Per Listing",Table1[[#This Row],[Amount]]*$P$3, B19="Per Buyer Side",Table1[[#This Row],[Amount]]*$P$4,B19="",0)} -> 0
E20: {=_xlfn.IFS(B20="Annually", Table1[[#This Row],[Amount]],B20="Quarterly",Table1[[#This Row],[Amount]]*4,B20="Monthly",Table1[[#This Row],[Amount]]*12,B20="Per Listing",Table1[[#This Row],[Amount]]*$P$3, B20="Per Buyer Side",Table1[[#This Row],[Amount]]*$P$4,B20="",0)} -> 0
E21: {=_xlfn.IFS(B21="Annually", Table1[[#This Row],[Amount]],B21="Quarterly",Table1[[#This Row],[Amount]]*4,B21="Monthly",Table1[[#This Row],[Amount]]*12,B21="Per Listing",Table1[[#This Row],[Amount]]*$P$3, B21="Per Buyer Side",Table1[[#This Row],[Amount]]*$P$4,B21="",0)} -> 0
E22: {=_xlfn.IFS(B22="Annually", Table1[[#This Row],[Amount]],B22="Quarterly",Table1[[#This Row],[Amount]]*4,B22="Monthly",Table1[[#This Row],[Amount]]*12,B22="Per Listing",Table1[[#This Row],[Amount]]*$P$3, B22="Per Buyer Side",Table1[[#This Row],[Amount]]*$P$4,B22="",0)} -> 0
E23: {=_xlfn.IFS(B23="Annually", Table1[[#This Row],[Amount]],B23="Quarterly",Table1[[#This Row],[Amount]]*4,B23="Monthly",Table1[[#This Row],[Amount]]*12,B23="Per Listing",Table1[[#This Row],[Amount]]*$P$3, B23="Per Buyer Side",Table1[[#This Row],[Amount]]*$P$4,B23="",0)} -> 0
E24: {=_xlfn.IFS(B24="Annually", Table1[[#This Row],[Amount]],B24="Quarterly",Table1[[#This Row],[Amount]]*4,B24="Monthly",Table1[[#This Row],[Amount]]*12,B24="Per Listing",Table1[[#This Row],[Amount]]*$P$3, B24="Per Buyer Side",Table1[[#This Row],[Amount]]*$P$4,B24="",0)} -> 0
E25: {=_xlfn.IFS(B25="Annually", Table1[[#This Row],[Amount]],B25="Quarterly",Table1[[#This Row],[Amount]]*4,B25="Monthly",Table1[[#This Row],[Amount]]*12,B25="Per Listing",Table1[[#This Row],[Amount]]*$P$3, B25="Per Buyer Side",Table1[[#This Row],[Amount]]*$P$4,B25="",0)} -> 0
... E44: {=_xlfn.IFS(B44="Annually", Table1[[#This Row],[Amount]],B44="Quarterly",Table1[[#This Row],[Amount]]*4,B44="Monthly",Table1[[#This Row],[Amount]]*12,B44="Per Listing",Table1[[#This Row],[Amount]]*$P$3, B44="Per Buyer Side",Table1[[#This Row],[Amount]]*$P$4,B44="",0)} -> 0

Sheet Expense Tracker
A1: Expense Tracker
A3: Date | B3: Payee | C3: Amount | D3: Category | E3: Notes | I3: Total YTD
H4: Marketing | I4: =SUMIF($D$4:$D$403,H4,$C$4:$C$403) -> 0
E5: gfg | H5: Supplies | I5: =SUMIF($D$4:$D$403,H5,$C$4:$C$403) -> 0
H6: Dues / Memberships | I6: =SUMIF($D$4:$D$403,H6,$C$4:$C$403) -> 0
H7: Education | I7: =SUMIF($D$4:$D$403,H7,$C$4:$C$403) -> 0
H8: Professional Services | I8: =SUMIF($D$4:$D$403,H8,$C$4:$C$403) -> 0
H9: Technology / Software | I9: =SUMIF($D$4:$D$403,H9,$C$4:$C$403) -> 0
H10: Client Appreciation / Gifts | I10: =SUMIF($D$4:$D$403,H10,$C$4:$C$403) -> 0
H11: Business Meals | I11: =SUMIF($D$4:$D$403,H11,$C$4:$C$403) -> 0

Sheet Pipeline
B1: 2026 Goal | C1: Pipeline | D1: Pending | E1: Closed | F1: Left to Goal (Pending and Closed)
A2: GCI | B2: ='Production Goals'!B6 -> 0 | C2: =SUMIF(A9:A74, "Pipeline", D9:D74) -> 0 | D2: =SUMIF(A9:A74, "Pending", D9:D74) -> 0 | E2: =SUMIF(A9:A74, "Closed", D9:D74) -> 0 | F2: =B2-(D2+E2) -> 0
A3: Listings | B3: ='Production Goals'!B9 -> 0 | C3: =COUNTIFS(A9:A74, "Pipeline", C9:C74, "Listing") -> 0 | D3: =COUNTIFS(A9:A74, "Pending", C9:C74, "Listing") -> 0 | E3: =COUNTIFS(A9:A74, "Closed", C9:C74, "Listing") -> 0 | F3: =B3-(D3+E3) -> 0
A4: Buyers | B4: ='Production Goals'!B10 -> 0 | C4: =COUNTIFS(A9:A74, "Pipeline", C9:C74, "Buyer") -> 0 | D4: =COUNTIFS(A9:A74, "Pending", C9:C74, "Buyer") -> 0 | E4: =COUNTIFS(A9:A74, "Closed", C9:C74, "Buyer") -> 0 | F4: =B4-(D4+E4) -> 0
A5: Referrals | B5: ='Production Goals'!B11 -> 0 | C5: =COUNTIFS(A:A,"Pipeline",C:C,"Referral") -> 0 | D5: =COUNTIFS(A:A,"Pending",C:C,"Referral") -> 0 | E5: =COUNTIFS(A:A,"Closed",C:C,"Referral") -> 0 | F5: =B5-(D5+E5) -> 0
A8: Status | B8: Client Name | C8: Type | D8: Estimated Commission | E8: Source of Business | G8: First Name | H8: Last Name | I8: E-mail | J8: Phone Number | K8: Street Address | L8: City | M8: State | N8: Zip

Sheet Marketing Plan - Print Version
B1: 2023 Marketing Plan
A4: Q1 | B4: January | E4: Q3 | F4: July
B8: February | F8: August
B12: March | F12: September | G12: Parade of Homes - Client Appreciation
A16: Q2 | B16: April | E16: Q4 | F16: October
B20: May | F20: November | G20: Reverse Pop-By Pies
B24: June | F24: December
